BEGIN:VCALENDAR
VERSION:2.0
PRODID:-//Nurmijärven Opisto - ECPv6.15.12.2//NONSGML v1.0//EN
CALSCALE:GREGORIAN
METHOD:PUBLISH
X-WR-CALNAME:Nurmijärven Opisto
X-ORIGINAL-URL:https://nurmijarvenopisto.fi
X-WR-CALDESC:Tapahtumat Nurmijärven Opisto
REFRESH-INTERVAL;VALUE=DURATION:PT1H
X-Robots-Tag:noindex
X-PUBLISHED-TTL:PT1H
BEGIN:VTIMEZONE
TZID:Europe/Helsinki
BEGIN:DAYLIGHT
TZOFFSETFROM:+0200
TZOFFSETTO:+0300
TZNAME:EEST
DTSTART:20250330T010000
END:DAYLIGHT
BEGIN:STANDARD
TZOFFSETFROM:+0300
TZOFFSETTO:+0200
TZNAME:EET
DTSTART:20251026T010000
END:STANDARD
BEGIN:DAYLIGHT
TZOFFSETFROM:+0200
TZOFFSETTO:+0300
TZNAME:EEST
DTSTART:20260329T010000
END:DAYLIGHT
BEGIN:STANDARD
TZOFFSETFROM:+0300
TZOFFSETTO:+0200
TZNAME:EET
DTSTART:20261025T010000
END:STANDARD
BEGIN:DAYLIGHT
TZOFFSETFROM:+0200
TZOFFSETTO:+0300
TZNAME:EEST
DTSTART:20270328T010000
END:DAYLIGHT
BEGIN:STANDARD
TZOFFSETFROM:+0300
TZOFFSETTO:+0200
TZNAME:EET
DTSTART:20271031T010000
END:STANDARD
END:VTIMEZONE
BEGIN:VEVENT
DTSTART;TZID=Europe/Helsinki:20260421T190000
DTEND;TZID=Europe/Helsinki:20260421T200000
DTSTAMP:20260420T020740
CREATED:20260211T130404Z
LAST-MODIFIED:20260211T130819Z
UID:12395-1776798000-1776801600@nurmijarvenopisto.fi
SUMMARY:PopCornin ja Bändikoulun kevätjamit
DESCRIPTION:Kevätjamit\nPopCorn ja Bändikoulu\nAitohelmessä\n(Klaukkalantie 72) \nti 21.4. klo 19.00 \n-vapaa pääsy-
URL:https://nurmijarvenopisto.fi/tapahtuma/popcornin-ja-bandikoulun-kevatjamit/
LOCATION:Aitohelmen sali\, Klaukkalantie 72
ATTACH;FMTTYPE=image/png:https://nurmijarvenopisto.fi/wp-content/uploads/2026/02/Artikkelikuva-8.png
END:VEVENT
BEGIN:VEVENT
DTSTART;TZID=Europe/Helsinki:20260423T180000
DTEND;TZID=Europe/Helsinki:20260423T220000
DTSTAMP:20260420T020740
CREATED:20260212T123346Z
LAST-MODIFIED:20260212T123947Z
UID:12413-1776967200-1776981600@nurmijarvenopisto.fi
SUMMARY:Bändiklubin juhlajamit
DESCRIPTION:Bändiklubin juhlajamit\nto 23.4. klo 18.00\nPub Parantola\n(Ketunkopintie 1\, Röykkä) \nNurmijärven Opisto täyttää tänä vuonna 70 vuotta.\nBändiklubin juhlajamit on juhlavuoden tapahtuma. \nTervetuloa rokkaamaan! \n-vapaa pääsy- \n \n 
URL:https://nurmijarvenopisto.fi/tapahtuma/bandiklubin-juhlajamit/
LOCATION:Pub Parantola
ATTACH;FMTTYPE=image/jpeg:https://nurmijarvenopisto.fi/wp-content/uploads/2026/02/Kitara.jpg
END:VEVENT
BEGIN:VEVENT
DTSTART;TZID=Europe/Helsinki:20260427T183000
DTEND;TZID=Europe/Helsinki:20260427T193000
DTSTAMP:20260420T020740
CREATED:20260409T090227Z
LAST-MODIFIED:20260409T091830Z
UID:12598-1777314600-1777318200@nurmijarvenopisto.fi
SUMMARY:Kevään tuulia -konsertti
DESCRIPTION:Naiskuoro Mystican kevätkonsertti\n \n  \n 
URL:https://nurmijarvenopisto.fi/tapahtuma/kevaan-tuulia-konsertti/
LOCATION:Työväentalo Männikkö\, Kiikkaistenkuja 21\, Klaukkala
ATTACH;FMTTYPE=image/jpeg:https://nurmijarvenopisto.fi/wp-content/uploads/2026/04/Mystica-artikkelikuva.jpg
END:VEVENT
END:VCALENDAR