BEGIN:VCALENDAR
VERSION:2.0
PRODID:-//Nurmijärven Opisto - ECPv6.15.12.2//NONSGML v1.0//EN
CALSCALE:GREGORIAN
METHOD:PUBLISH
X-WR-CALNAME:Nurmijärven Opisto
X-ORIGINAL-URL:https://nurmijarvenopisto.fi
X-WR-CALDESC:Tapahtumat Nurmijärven Opisto
REFRESH-INTERVAL;VALUE=DURATION:PT1H
X-Robots-Tag:noindex
X-PUBLISHED-TTL:PT1H
BEGIN:VTIMEZONE
TZID:Europe/Helsinki
BEGIN:DAYLIGHT
TZOFFSETFROM:+0200
TZOFFSETTO:+0300
TZNAME:EEST
DTSTART:20250330T010000
END:DAYLIGHT
BEGIN:STANDARD
TZOFFSETFROM:+0300
TZOFFSETTO:+0200
TZNAME:EET
DTSTART:20251026T010000
END:STANDARD
BEGIN:DAYLIGHT
TZOFFSETFROM:+0200
TZOFFSETTO:+0300
TZNAME:EEST
DTSTART:20260329T010000
END:DAYLIGHT
BEGIN:STANDARD
TZOFFSETFROM:+0300
TZOFFSETTO:+0200
TZNAME:EET
DTSTART:20261025T010000
END:STANDARD
BEGIN:DAYLIGHT
TZOFFSETFROM:+0200
TZOFFSETTO:+0300
TZNAME:EEST
DTSTART:20270328T010000
END:DAYLIGHT
BEGIN:STANDARD
TZOFFSETFROM:+0300
TZOFFSETTO:+0200
TZNAME:EET
DTSTART:20271031T010000
END:STANDARD
END:VTIMEZONE
BEGIN:VEVENT
DTSTART;TZID=Europe/Helsinki:20260421T190000
DTEND;TZID=Europe/Helsinki:20260421T200000
DTSTAMP:20260421T192233
CREATED:20260211T130404Z
LAST-MODIFIED:20260211T130819Z
UID:12395-1776798000-1776801600@nurmijarvenopisto.fi
SUMMARY:PopCornin ja Bändikoulun kevätjamit
DESCRIPTION:Kevätjamit\nPopCorn ja Bändikoulu\nAitohelmessä\n(Klaukkalantie 72) \nti 21.4. klo 19.00 \n-vapaa pääsy-
URL:https://nurmijarvenopisto.fi/tapahtuma/popcornin-ja-bandikoulun-kevatjamit/
LOCATION:Aitohelmen sali\, Klaukkalantie 72
ATTACH;FMTTYPE=image/png:https://nurmijarvenopisto.fi/wp-content/uploads/2026/02/Artikkelikuva-8.png
END:VEVENT
END:VCALENDAR